BEGIN:VCALENDAR
VERSION:2.0
PRODID:-//ChamberMaster//Event Calendar 2.0//EN
METHOD:PUBLISH
X-PUBLISHED-TTL:P3D
REFRESH-INTERVAL:P3D
CALSCALE:GREGORIAN
BEGIN:VEVENT
DTSTART:20171010T210000Z
DTEND:20171010T230000Z
X-MICROSOFT-CDO-ALLDAYEVENT:FALSE
SUMMARY:Knox County Task Force for Older Adults - Spaghetti Dinner
DESCRIPTION:
X-ALT-DESC;FMTTYPE=text/html:
LOCATION:The Glenn A. Gallagher Centre 1451 Gambier Road\, Mount Vernon
UID:e.2893.2506
SEQUENCE:3
DTSTAMP:20260422T211306Z
URL:http://knoxchamber.smartcms.site/events/details/knox-county-task-force-for-older-adults-spaghetti-dinner-2506
END:VEVENT

END:VCALENDAR
