BEGIN:VCALENDAR
VERSION:2.0
PRODID:-//ChamberMaster//Event Calendar 2.0//EN
METHOD:PUBLISH
X-PUBLISHED-TTL:P3D
REFRESH-INTERVAL:P3D
CALSCALE:GREGORIAN
BEGIN:VEVENT
DTSTART:20170831T120000Z
DTEND:20170831T210000Z
X-MICROSOFT-CDO-ALLDAYEVENT:FALSE
SUMMARY:Knox County Photography Contest
DESCRIPTION:Submit your photo entries for the 20th Annual Knox County Nature Photography Contest! Photos will be accepted now at the BFEC Resource Center. We are open from 8am to 4 pm Monday through Friday. Entries will be displayed at the BFEC Harvest Festival on October 14. Deadline to enter is October 6th. Details coming soon to our website bfec.kenyon.edu or email Jill Kerkhoff (kerkhoffj@kenyon.edu) for assistance. Note: There is a $10 flat entry fee for all participants.
X-ALT-DESC;FMTTYPE=text/html:Submit your photo entries for the 20th Annual Knox County Nature Photography Contest! Photos will be accepted now at the BFEC Resource Center. We are open from 8am to 4 pm Monday through Friday. Entries will be displayed at the BFEC Harvest Festival on October 14. Deadline to enter is October 6th. Details coming soon to our website bfec.kenyon.edu or email Jill Kerkhoff (kerkhoffj@kenyon.edu) for assistance. Note: There is a $10 flat entry fee for all participants.
LOCATION:Brown Family Environmental Center
UID:e.2893.1477
SEQUENCE:3
DTSTAMP:20260423T005227Z
URL:http://knoxchamber.smartcms.site/events/details/knox-county-photography-contest-1477
END:VEVENT

END:VCALENDAR
