BEGIN:VCALENDAR
VERSION:2.0
PRODID:-//ChamberMaster//Event Calendar 2.0//EN
METHOD:PUBLISH
X-PUBLISHED-TTL:P3D
REFRESH-INTERVAL:P3D
CALSCALE:GREGORIAN
BEGIN:VEVENT
DTSTART:20180421T120000Z
DTEND:20180421T160000Z
X-MICROSOFT-CDO-ALLDAYEVENT:FALSE
SUMMARY:Knox County Park's Bird and Wildflower Walk
DESCRIPTION:Meet at Wolf Run Park\, 17621 Yauger Rd. Start your day by enjoying the sights and sounds of spring with Lori Totman\, Director of Knox County Parks. As you ramble along the trails\, you will search for birds and stop to observe wildflowers. Bring binoculars if you have them\, the Park District has some to lend. When finished be sure to attend the Earth Day Festival from noon   4pm!
X-ALT-DESC;FMTTYPE=text/html:Meet at Wolf Run Park\, 17621 Yauger Rd. Start your day by enjoying the sights and sounds of spring with Lori Totman\, Director of Knox County Parks. As you ramble along the trails\, you will search for birds and stop to observe wildflowers. Bring binoculars if you have them\, the Park District has some to lend. When finished be sure to attend the Earth Day Festival from noon &ndash\; 4pm!
LOCATION:Wolf Run Park
UID:e.2893.2622
SEQUENCE:3
DTSTAMP:20260422T105901Z
URL:http://knoxchamber.smartcms.site/events/details/knox-county-park-s-bird-and-wildflower-walk-2622
END:VEVENT

END:VCALENDAR
