BEGIN:VCALENDAR
VERSION:2.0
PRODID:-//ChamberMaster//Event Calendar 2.0//EN
METHOD:PUBLISH
X-PUBLISHED-TTL:P3D
REFRESH-INTERVAL:P3D
CALSCALE:GREGORIAN
BEGIN:VEVENT
DTSTART:20180519T120000Z
DTEND:20180519T150000Z
X-MICROSOFT-CDO-ALLDAYEVENT:FALSE
SUMMARY:Knox County Park's Bird and Wildflower Walk
DESCRIPTION:Meet at the parking lot at 10816 Millersburg Rd. Spring is still in full swing! Join Lori Totman\, Director of Knox County Parks\, to search for birds at the Highlands\, and catch the wildflower show along the trails to the Waterfall. For all levels of birders and wildflower enthusiasts   from beginners to advanced. Bring binoculars if you have them\, the Park District has some to lend. Meet at the 10816 Millersburg Rd. (US 62) parking lot\, not at the Waterfall.
X-ALT-DESC;FMTTYPE=text/html:Meet at the parking lot at 10816 Millersburg Rd. Spring is still in full swing! Join Lori Totman\, Director of Knox County Parks\, to search for birds at the Highlands\, and catch the wildflower show along the trails to the Waterfall. For all levels of birders and wildflower enthusiasts &ndash\; from beginners to advanced. Bring binoculars if you have them\, the Park District has some to lend. Meet at the 10816 Millersburg Rd. (US 62) parking lot\, not at the Waterfall.
LOCATION:Honey Run
UID:e.2893.2626
SEQUENCE:3
DTSTAMP:20260422T092714Z
URL:http://knoxchamber.smartcms.site/events/details/knox-county-park-s-bird-and-wildflower-walk-05-19-2018-2626
END:VEVENT

END:VCALENDAR
