BEGIN:VCALENDAR
VERSION:2.0
PRODID:-//ChamberMaster//Event Calendar 2.0//EN
METHOD:PUBLISH
X-PUBLISHED-TTL:P3D
REFRESH-INTERVAL:P3D
CALSCALE:GREGORIAN
BEGIN:VEVENT
DTSTART:20181020T160000Z
DTEND:20181020T180000Z
X-MICROSOFT-CDO-ALLDAYEVENT:FALSE
SUMMARY:Knox County Nature Photography Contest
DESCRIPTION:Join us in the BFEC Resource Center\, during the annual Fall Harvest Festival\, to view the spectacular photo entries! All entries depict the natural world in our very own Knox County. People's Choice voting from 12-2 pm! Vote for your favorite!!
X-ALT-DESC;FMTTYPE=text/html:<span style="font-size:16px\;">Join us in the BFEC Resource Center\, during the annual Fall Harvest Festival\, to view the spectacular photo entries! All entries depict the natural world in our very own Knox County. People&#39\;s Choice voting from 12-2 pm! Vote for your favorite!!</span>
LOCATION:Brown Family Environmental Center 9781 Laymon Rd.
UID:e.2893.3791
SEQUENCE:3
DTSTAMP:20260422T011200Z
URL:http://knoxchamber.smartcms.site/events/details/knox-county-nature-photography-contest-3791
END:VEVENT

END:VCALENDAR
