BEGIN:VCALENDAR
VERSION:2.0
PRODID:-//ChamberMaster//Event Calendar 2.0//EN
METHOD:PUBLISH
X-PUBLISHED-TTL:P3D
REFRESH-INTERVAL:P3D
CALSCALE:GREGORIAN
BEGIN:VEVENT
DTSTART:20190824T130000Z
DTEND:20190824T150000Z
X-MICROSOFT-CDO-ALLDAYEVENT:FALSE
SUMMARY:Knox County Birding Group
DESCRIPTION:Meet at Laymon Road river access parking lot. Join local bird enthusiasts for an easy stroll and search for early migrating birds. Bring your own binoculars.
X-ALT-DESC;FMTTYPE=text/html:Meet at Laymon Road river access parking lot. Join local bird enthusiasts for an easy stroll and search for early migrating birds. Bring your own binoculars.
LOCATION:Laymon Rd. River Access
UID:e.2893.4430
SEQUENCE:3
DTSTAMP:20260421T070348Z
URL:http://knoxchamber.smartcms.site/events/details/knox-county-birding-group-4430
END:VEVENT

END:VCALENDAR
