BEGIN:VCALENDAR
VERSION:2.0
PRODID:-//ChamberMaster//Event Calendar 2.0//EN
METHOD:PUBLISH
X-PUBLISHED-TTL:P3D
REFRESH-INTERVAL:P3D
CALSCALE:GREGORIAN
BEGIN:VEVENT
DTSTART:20190427T140000Z
DTEND:20190427T160000Z
X-MICROSOFT-CDO-ALLDAYEVENT:FALSE
SUMMARY:Knox County Birders
DESCRIPTION:If you want to learn more about birds and birding\, this is the group for you. The group meets monthly on the 4th Saturday at various locations around Knox County. For more information\, check their facebook page\, or contact Judith Crouse at judithcrouse59@gmail.com. Meet at Knox County Wolf Run Park on Yauger Road.
X-ALT-DESC;FMTTYPE=text/html:If you want to learn more about birds and birding\, this is the group for you. The group meets monthly on the 4th Saturday at various locations around Knox County. For more information\, check their facebook page\, or contact Judith Crouse at judithcrouse59@gmail.com. Meet at Knox County Wolf Run Park on Yauger Road.
LOCATION:Wolf Run Park
UID:e.2893.4274
SEQUENCE:3
DTSTAMP:20260421T151958Z
URL:http://knoxchamber.smartcms.site/events/details/knox-county-birders-4274
END:VEVENT

END:VCALENDAR
