BEGIN:VCALENDAR
VERSION:2.0
PRODID:-//ChamberMaster//Event Calendar 2.0//EN
METHOD:PUBLISH
X-PUBLISHED-TTL:P3D
REFRESH-INTERVAL:P3D
CALSCALE:GREGORIAN
BEGIN:VEVENT
DTSTART:20191123T140000Z
DTEND:20191123T160000Z
X-MICROSOFT-CDO-ALLDAYEVENT:FALSE
SUMMARY:Knox County Birders
DESCRIPTION:Learn more about birds and birding! The group is open to everyone and meets monthly at various locations around Knox County. Check their facebook page\, or contact Judith Crouse at judithcrouse59@gmail.com for details. Meet at the Laymon Road River Access parking lot.
X-ALT-DESC;FMTTYPE=text/html:Learn more about birds and birding! The group is open to everyone and meets monthly at various locations around Knox County. Check their facebook page\, or contact Judith Crouse at judithcrouse59@gmail.com for details. Meet at the Laymon Road River Access parking lot.
LOCATION:
UID:e.2893.4481
SEQUENCE:3
DTSTAMP:20260421T023750Z
URL:http://knoxchamber.smartcms.site/events/details/knox-county-birders-11-23-2019-4481
END:VEVENT

END:VCALENDAR
