BEGIN:VCALENDAR
VERSION:2.0
PRODID:-//ChamberMaster//Event Calendar 2.0//EN
METHOD:PUBLISH
X-PUBLISHED-TTL:P3D
REFRESH-INTERVAL:P3D
CALSCALE:GREGORIAN
BEGIN:VEVENT
DTSTART:20191026T130000Z
DTEND:20191026T150000Z
X-MICROSOFT-CDO-ALLDAYEVENT:FALSE
SUMMARY:Knox County Birders
DESCRIPTION:Learn more about birds and birding! The group is open to everyone and meets monthly at various locations around Knox County. Check their facebook page\, or contact Judith Crouse at judithcrouse59@gmail.com for details. Meet at the Laymon Road River Access parking lot.
X-ALT-DESC;FMTTYPE=text/html:Learn more about birds and birding! The group is open to everyone and meets monthly at various locations around Knox County. Check their facebook page\, or contact Judith Crouse at judithcrouse59@gmail.com for details. Meet at the Laymon Road River Access parking lot.
LOCATION:Laymon Road River Access parking Lot
UID:e.2893.4479
SEQUENCE:3
DTSTAMP:20260421T040056Z
URL:http://knoxchamber.smartcms.site/events/details/knox-county-birders-10-26-2019-4479
END:VEVENT

END:VCALENDAR
