BEGIN:VCALENDAR
VERSION:2.0
PRODID:-//ChamberMaster//Event Calendar 2.0//EN
METHOD:PUBLISH
X-PUBLISHED-TTL:P3D
REFRESH-INTERVAL:P3D
CALSCALE:GREGORIAN
BEGIN:VEVENT
DTSTART:20190525T140000Z
DTEND:20190525T160000Z
X-MICROSOFT-CDO-ALLDAYEVENT:FALSE
SUMMARY:Knox County Birders
DESCRIPTION:If you want to learn more about birds and birding\, this is the group for you. The group meets monthly on the 4th Saturday at various locations around Knox County. For more information\, check their facebook page\, or contact Judith Crouse at judithcrouse59@gmail.com. Meeting location TBD.
X-ALT-DESC;FMTTYPE=text/html:If you want to learn more about birds and birding\, this is the group for you. The group meets monthly on the 4th Saturday at various locations around Knox County. For more information\, check their facebook page\, or contact Judith Crouse at judithcrouse59@gmail.com. Meeting location TBD.
LOCATION:TBD
UID:e.2893.4277
SEQUENCE:3
DTSTAMP:20260421T132822Z
URL:http://knoxchamber.smartcms.site/events/details/knox-county-birders-05-25-2019-4277
END:VEVENT

END:VCALENDAR
