BEGIN:VCALENDAR
VERSION:2.0
PRODID:-//ChamberMaster//Event Calendar 2.0//EN
METHOD:PUBLISH
X-PUBLISHED-TTL:P3D
REFRESH-INTERVAL:P3D
CALSCALE:GREGORIAN
BEGIN:VEVENT
DTSTART:20180908T150000Z
DTEND:20180909T010000Z
X-MICROSOFT-CDO-ALLDAYEVENT:FALSE
SUMMARY:Knox County Barn Tour and Dance
DESCRIPTION:Knox County Barn Tour and Dance September 8\, 2018 11 am -9 pm. Drive 17 miles to tour 4 barns.\n\nMusic\, plein air painters competition\, children's art and children's coloring corner\, petting zoo\, and farm animals\, face painter\, gardens\, sales\, exhibits\, food\, crafts\, dance performance by Kenyon College Dance Department\, displays\, Master Gardeners of Knox County\, solar information\, antique and modern farm and barn raising equipment\, talk with barn experts and more. Barn square dance after the tour at 6:30. Map to be published September 1st  at WWW.KNOXLANDMARKS.ORG. Sixth biennial tour produced by the Knox County Landmarks Foundation to benefit it's programs. Different barns each tour on the second Saturday of September. ALWAYS FREE
X-ALT-DESC;FMTTYPE=text/html:Knox County Barn Tour and Dance September 8\, 2018 11 am -9 pm. Drive 17 miles to tour 4 barns.<br />\nMusic\, plein air painters competition\, children&#39\;s art and children&#39\;s coloring corner\, petting zoo\, and farm animals\, face painter\, gardens\, sales\, exhibits\, food\, crafts\, dance performance by Kenyon College Dance Department\, displays\, Master Gardeners of Knox County\, solar information\, antique and modern farm and barn raising equipment\, talk with barn experts and more. Barn square dance after the tour at 6:30. Map to be published September 1st&nbsp\; at WWW.KNOXLANDMARKS.ORG. Sixth biennial tour produced by the Knox County Landmarks Foundation to benefit it&#39\;s programs. Different barns each tour on the second Saturday of September. ALWAYS FREE
LOCATION:Warwick Farm 16620 Wells Rd\, Mount Vernon
UID:e.2893.3766
SEQUENCE:3
DTSTAMP:20260422T024123Z
URL:http://knoxchamber.smartcms.site/events/details/knox-county-barn-tour-and-dance-3766
END:VEVENT

END:VCALENDAR
