BEGIN:VCALENDAR
VERSION:2.0
PRODID:-//ChamberMaster//Event Calendar 2.0//EN
METHOD:PUBLISH
X-PUBLISHED-TTL:P3D
REFRESH-INTERVAL:P3D
CALSCALE:GREGORIAN
BEGIN:VEVENT
DTSTART:20180417T160000Z
DTEND:20180501T160000Z
X-MICROSOFT-CDO-ALLDAYEVENT:FALSE
SUMMARY:Knox Co. Farm Bureau Buying Local Directory
DESCRIPTION:Creation of a new Buying Local Directory compiled by Knox County Farm Bureau to share and support and promote local businesses. Lising in the directory is free for Farm Bureau members. Listings will include all types of agricultural products or anyone who offers a service that is connected in any way to the agricultural economy. This directory will be mailed to 1\,300 current Farm Bureau members and distributed at local events.
X-ALT-DESC;FMTTYPE=text/html:Creation of a new Buying Local Directory compiled by Knox County Farm Bureau to share and support and promote local businesses. Lising in the directory is free for Farm Bureau members. Listings will include all types of agricultural products or anyone who offers a service that is connected in any way to the agricultural economy. This directory will be mailed to 1\,300 current Farm Bureau members and distributed at local events.
LOCATION:none
UID:e.2893.3629
SEQUENCE:3
DTSTAMP:20260422T092701Z
URL:http://knoxchamber.smartcms.site/events/details/knox-co-farm-bureau-buying-local-directory-3629
END:VEVENT

END:VCALENDAR
