BEGIN:VCALENDAR
VERSION:2.0
PRODID:-//ChamberMaster//Event Calendar 2.0//EN
METHOD:PUBLISH
X-PUBLISHED-TTL:P3D
REFRESH-INTERVAL:P3D
CALSCALE:GREGORIAN
BEGIN:VEVENT
DTSTART:20160629T120000Z
DTEND:20160630T200000Z
X-MICROSOFT-CDO-ALLDAYEVENT:FALSE
SUMMARY:Knox Addiction Conference: Recovery Matters
DESCRIPTION:The Knox Addiction Conference: Recovery Matters is hosted by the Knox Substance Abuse Action Team (KSAAT). This conference offers a number of different professional development tracks and opportunities for continuing education credits. The presentations are also open to the general public and will give information on what is being done to address drug abuse in our community and immediate ways that each one of us can get involved in supporting people in recovery and strengthening the community. You are part of the solution! This is an excellent opportunity for the community as a whole to examine their different strengths and talents and help reduce stigma as we learn about how addiction\, treatment\, and recovery impact every life in our community.
X-ALT-DESC;FMTTYPE=text/html:<span style="font:15px/22px 'Benton Sans'\, 'Helvetica Neue'\, Helvetica\, Roboto\, Arial\, sans-serif\;color:#666a73\;text-transform:none\;text-indent:0px\;letter-spacing:0.5px\;word-spacing:0px\;float:none\;display:inline !important\;white-space:normal\;widows:1\;background-color:#ffffff\;-webkit-text-stroke-width:0px\;">The Knox Addiction Conference: Recovery Matters is hosted by the Knox Substance Abuse Action Team (KSAAT). This conference offers a number of different professional development tracks and opportunities for continuing education credits. The presentations are also open to the general public and will give information on what is being done to address drug abuse in our community and immediate ways that each one of us can get involved in supporting people in recovery and strengthening the community. You are part of the solution! This is an excellent opportunity for the community as a whole to examine their different strengths and talents and help reduce stigma as we learn about how addiction\, treatment\, and recovery impact every life in our community.&nbsp\;&nbsp\;&nbsp\;&nbsp\;</span>
LOCATION:Kenyon College 106 College Park Street\, Gambier\, Oh 43022
UID:e.2893.863
SEQUENCE:3
DTSTAMP:20260424T062051Z
URL:http://knoxchamber.smartcms.site/events/details/knox-addiction-conference-recovery-matters-06-29-2016-863
END:VEVENT

END:VCALENDAR
