BEGIN:VCALENDAR
VERSION:2.0
PRODID:-//ChamberMaster//Event Calendar 2.0//EN
METHOD:PUBLISH
X-PUBLISHED-TTL:P3D
REFRESH-INTERVAL:P3D
CALSCALE:GREGORIAN
BEGIN:VEVENT
DTSTART:20190209T210000Z
DTEND:20190209T230000Z
X-MICROSOFT-CDO-ALLDAYEVENT:FALSE
SUMMARY:Kiwanis Chocolate Fantasy Fundraiser
DESCRIPTION:Induge your Chocolate Fantasy with Cakes\, Cookies & Candies from various bakeries and vendors at the Kiwanis Club of Mount Vernon's 1st annual fundraiser for their Scholarship Fund. Tickets include all chocolate items\, two drink tickets\, and voting rights to decide the best chocolate entries
X-ALT-DESC;FMTTYPE=text/html:Induge your Chocolate Fantasy with Cakes\, Cookies &amp\; Candies from various bakeries and vendors at the Kiwanis Club of Mount Vernon&#39\;s 1st annual fundraiser for their Scholarship Fund. Tickets include all chocolate items\, two drink tickets\, and voting rights to decide the best chocolate entries
LOCATION:The Glenn A. Gallagher Centre 1451 Gambier rd\, Mount Vernon\, Ohio
UID:e.2893.4244
SEQUENCE:3
DTSTAMP:20260421T182515Z
URL:http://knoxchamber.smartcms.site/events/details/kiwanis-chocolate-fantasy-fundraiser-4244
END:VEVENT

END:VCALENDAR
