BEGIN:VCALENDAR
VERSION:2.0
PRODID:-//ChamberMaster//Event Calendar 2.0//EN
METHOD:PUBLISH
X-PUBLISHED-TTL:P3D
REFRESH-INTERVAL:P3D
CALSCALE:GREGORIAN
BEGIN:VEVENT
DTSTART:20200215T210000Z
DTEND:20200215T230000Z
X-MICROSOFT-CDO-ALLDAYEVENT:FALSE
SUMMARY:Kiwanis 2020 Chocolate Fantasy
DESCRIPTION:Indulge your Chocolate Fantasy with Cakes\, Cookies\, & Candies from various bakeries and vendors at the Kiwanis Club of Mount Vernon's 2nd annual fundraiser for our Scholarship Fund. Tickets include all chocolate items\, two drinks\, and voting rights to decide the best chocolate entries. Tickets can be purchased pre-sale for $25 from any local Kiwanis member. Tickets at the door on the day of the event will be $30. Professional and Home Bakers will compete for the coveted title of Best Chocolate Entry. You may enter by registering here\; https://form.jotform.com/193498700358064 Please contact Vickie at kinneyvickie@yahoo.com or John at john@dumbaughinsurance.com for more details.
X-ALT-DESC;FMTTYPE=text/html:Indulge your Chocolate Fantasy with Cakes\, Cookies\, &amp\; Candies from various bakeries and vendors at the Kiwanis Club of Mount Vernon&#39\;s 2nd annual fundraiser for our Scholarship Fund. Tickets include all chocolate items\, two drinks\, and voting rights to decide the best chocolate entries. Tickets can be purchased pre-sale for $25 from any local Kiwanis member. Tickets at the door on the day of the event will be $30. Professional and Home Bakers will compete for the coveted title of Best Chocolate Entry. You may enter by registering here\; https://form.jotform.com/193498700358064 Please contact Vickie at kinneyvickie@yahoo.com or John at john@dumbaughinsurance.com for more details.
LOCATION:Glenn A. Gallagher Centre 1451 Gambier Road
UID:e.2893.4727
SEQUENCE:3
DTSTAMP:20260420T231142Z
URL:http://knoxchamber.smartcms.site/events/details/kiwanis-2020-chocolate-fantasy-4727
END:VEVENT

END:VCALENDAR
