BEGIN:VCALENDAR
VERSION:2.0
PRODID:-//ChamberMaster//Event Calendar 2.0//EN
METHOD:PUBLISH
X-PUBLISHED-TTL:P3D
REFRESH-INTERVAL:P3D
CALSCALE:GREGORIAN
BEGIN:VEVENT
DTSTART:20190420T160000Z
DTEND:20190420T200000Z
X-MICROSOFT-CDO-ALLDAYEVENT:FALSE
SUMMARY:Keep It Wild: Earth Day at the BFEC
DESCRIPTION:Celebrate Earth Day with this FREE event! We'll have owls\, hawks\, skunks\, river otters\, snakes\, and more for you to "meet" up-close. Make-and-take bluebird boxes\, bat boxes\, and more! Live music and a food truck will round out the afternoon.
X-ALT-DESC;FMTTYPE=text/html:Celebrate Earth Day with this FREE event! We&rsquo\;ll have owls\, hawks\, skunks\, river otters\, snakes\, and more for you to &ldquo\;meet&rdquo\; up-close. Make-and-take bluebird boxes\, bat boxes\, and more! Live music and a food truck will round out the afternoon.
LOCATION:Brown Family Environmental Center 9871 Laymon Rd. Gambier\, OH 43022
UID:e.2893.3867
SEQUENCE:3
DTSTAMP:20260421T164628Z
URL:http://knoxchamber.smartcms.site/events/details/keep-it-wild-earth-day-at-the-bfec-04-20-2019-3867
END:VEVENT

END:VCALENDAR
