BEGIN:VCALENDAR
VERSION:2.0
PRODID:-//ChamberMaster//Event Calendar 2.0//EN
METHOD:PUBLISH
X-PUBLISHED-TTL:P3D
REFRESH-INTERVAL:P3D
CALSCALE:GREGORIAN
BEGIN:VEVENT
DTSTART:20180716T130000Z
DTEND:20180717T020000Z
X-MICROSOFT-CDO-ALLDAYEVENT:FALSE
SUMMARY:KCH Groundbreaking Ceremony for Family Care Center
DESCRIPTION:Knox Community Hospital will hold a groundbreaking ceremony to formally launch the construction of a new Family Care Center on Monday\, July 16\, at 9:00 am. The ceremony will be held on the east side of the campus\, behind the Knox Medical Pavilion\, and is open to the public.\n\n\n\nThis 80\,000 square foot facility will offer new and expanded facilities.  Join us for this exciting ceremony.
X-ALT-DESC;FMTTYPE=text/html:<span style="font-family:arial\,sans-serif\;"><strong>Knox Community Hospital</strong> will hold a groundbreaking ceremony to formally launch the construction of a new Family Care Center on <strong>Monday\, July 16\, at 9:00 am</strong>. The ceremony will be held on the east side of the campus\, behind the Knox Medical Pavilion\, and is open to the public.<br />\n<br />\nThis 80\,000 square foot facility will offer new and expanded facilities.&nbsp\; Join us for this exciting ceremony.</span>
LOCATION:1330 Coshocton Road behind the Knox Medical Pavillion.
UID:e.2893.3746
SEQUENCE:3
DTSTAMP:20260422T074924Z
URL:http://knoxchamber.smartcms.site/events/details/kch-groundbreaking-ceremony-for-family-care-center-3746
END:VEVENT

END:VCALENDAR
