BEGIN:VCALENDAR
VERSION:2.0
PRODID:-//ChamberMaster//Event Calendar 2.0//EN
METHOD:PUBLISH
X-PUBLISHED-TTL:P3D
REFRESH-INTERVAL:P3D
CALSCALE:GREGORIAN
BEGIN:VEVENT
DTSTART:20231024T210000Z
DTEND:20231024T220000Z
X-MICROSOFT-CDO-ALLDAYEVENT:FALSE
SUMMARY:KCH Doc Talk with Dr. McNicol
DESCRIPTION:Find out what current treatment options are available to help manage your pain. Refreshments will be available.
X-ALT-DESC;FMTTYPE=text/html:Find out what current treatment options are available to help manage your pain. Refreshments will be available.
LOCATION:Wright Family Medical Pavilion 2nd Floor Meeting Room
UID:e.2893.8574
SEQUENCE:3
DTSTAMP:20260421T090719Z
URL:http://knoxchamber.smartcms.site/events/details/kch-doc-talk-with-dr-mcnicol-8574
END:VEVENT

END:VCALENDAR
