BEGIN:VCALENDAR
VERSION:2.0
PRODID:-//ChamberMaster//Event Calendar 2.0//EN
METHOD:PUBLISH
X-PUBLISHED-TTL:P3D
REFRESH-INTERVAL:P3D
CALSCALE:GREGORIAN
BEGIN:VEVENT
DTSTART:20210429T120000Z
DTEND:20210429T180000Z
X-MICROSOFT-CDO-ALLDAYEVENT:FALSE
SUMMARY:KCCC: Spring Plant Sale
DESCRIPTION:Knox County Career Center and our Landscape Design & Management program are excited to announce our annual KCCC Spring Plant Sale.\n\nWe will operate by appointment only.\n\nClick the link to register.  https://www.signupgenius.com/go/9040A4CA9AD2AA0FA7-landscape1\n\n\n\nMask required & social distancing will be observed
X-ALT-DESC;FMTTYPE=text/html:<span style="color: rgb(40\, 40\, 40)\; font-family: Arial\, sans-serif\; font-size: 16px\; background-color: rgb(255\, 255\, 255)\;">Knox County Career Center and our Landscape Design &amp\; Management program are excited to announce our annual KCCC Spring Plant Sale.<br />\n<strong>We will operate by appointment only.</strong></span><br />\n<span style="font-size: 16px\; background-color: rgb(255\, 255\, 255)\; font-family: Arial\, Helvetica\, sans-serif\; color: rgb(34\, 34\, 34)\;">Click the link to register. </span><span style="color: rgb(40\, 40\, 40)\; font-family: Arial\, sans-serif\; font-size: 16px\; background-color: rgb(255\, 255\, 255)\;">&nbsp\;<a href="https://www.signupgenius.com/go/9040A4CA9AD2AA0FA7-landscape1">https://www.signupgenius.com/go/9040A4CA9AD2AA0FA7-landscape1</a></span><br />\n<br />\n<span style="font-size:14px\;"><strong>Mask required &amp\; social distancing will be observed</strong></span>
LOCATION:Knox County Career Center 306 Martinsburg Road Mount Vernon\, Ohio 43050
UID:e.2893.4868
SEQUENCE:3
DTSTAMP:20260419T230127Z
URL:http://knoxchamber.smartcms.site/events/details/kccc-spring-plant-sale-04-29-2021-4868
END:VEVENT

END:VCALENDAR
