BEGIN:VCALENDAR
VERSION:2.0
PRODID:-//ChamberMaster//Event Calendar 2.0//EN
METHOD:PUBLISH
X-PUBLISHED-TTL:P3D
REFRESH-INTERVAL:P3D
CALSCALE:GREGORIAN
BEGIN:VEVENT
DTSTART:20170323T203000Z
DTEND:20170323T223000Z
X-MICROSOFT-CDO-ALLDAYEVENT:FALSE
SUMMARY:KCBDD Annual Celebrity Chef Omelet & Pancake Dinner
DESCRIPTION:March is Developmental Disabilities awareness month and is 50 years for the county boards of developmental disabilities in Ohio.  The Knox County Board of Developmental Disabilities (KCBDD) is preparing for its Celebrity Chef Omelet & Pancake Dinner.\n\n \n\nThe meal is a donation only and we are raising funds towards a fully accessible playground in Knox County.  We are very excited about this project and will keep the community informed as the project progresses.\n\n \n\nPlease come to this community dinner for a great meal from our celebrity chefs and helping us fund a great project!
X-ALT-DESC;FMTTYPE=text/html:March is Developmental Disabilities awareness month and is 50 years for the county boards of developmental disabilities in Ohio.&nbsp\; The Knox County Board of Developmental Disabilities (KCBDD) is preparing for its Celebrity Chef Omelet &amp\; Pancake Dinner.<br />\n&nbsp\;<br />\nThe meal is a donation only and we are raising funds towards a fully accessible playground in Knox County.&nbsp\; We are very excited about this project and will keep the community informed as the project progresses.<br />\n&nbsp\;<br />\nPlease come to this community dinner for a great meal from our celebrity chefs and helping us fund a great project!&nbsp\;&nbsp\;
LOCATION:WHAT: KCBDD Annual Celebrity Chef Omelet & Pancake Dinner WHEN: Thursday\, March 23\, 2017 TIME: 4:30pm 6:30pm WHERE: New Hope Early Education Center gymnasium (located behind the Health Department) COST: Donation by those partaking in the dinner (recruit your friends\, co-workers\, & family!)
UID:e.2893.1275
SEQUENCE:3
DTSTAMP:20260423T112231Z
URL:http://knoxchamber.smartcms.site/events/details/kcbdd-annual-celebrity-chef-omelet-pancake-dinner-1275
END:VEVENT

END:VCALENDAR
