BEGIN:VCALENDAR
VERSION:2.0
PRODID:-//ChamberMaster//Event Calendar 2.0//EN
METHOD:PUBLISH
X-PUBLISHED-TTL:P3D
REFRESH-INTERVAL:P3D
CALSCALE:GREGORIAN
BEGIN:VEVENT
DTSTART:20180706T233000Z
DTEND:20180707T010000Z
X-MICROSOFT-CDO-ALLDAYEVENT:FALSE
SUMMARY:Katherine Siochi at Young Artist's Harp Seminar
DESCRIPTION:The Young Artist's Harp Seminar makes its first appearance at Kenyon College this July. Top young harpists from around the world will join a roster of distinguished faculty artists including Katherine Siochi\, reigning Gold Medal winner at the USA International Harp Competition and principal harpist with the Sarasota Orchestra. Hear Siochi perform solo classical harp repertoire on July 6.
X-ALT-DESC;FMTTYPE=text/html:The Young Artist&#39\;s Harp Seminar makes its first appearance at Kenyon College this July. Top young harpists from around the world will join a roster of distinguished faculty artists including Katherine Siochi\, reigning Gold Medal winner at the USA International Harp Competition and principal harpist with the Sarasota Orchestra. Hear Siochi perform solo classical harp repertoire on July 6.
LOCATION:Brandi Recital Hall\, Kenyon College
UID:e.2893.3642
SEQUENCE:3
DTSTAMP:20260422T074910Z
URL:http://knoxchamber.smartcms.site/events/details/katherine-siochi-at-young-artist-s-harp-seminar-3642
END:VEVENT

END:VCALENDAR
