BEGIN:VCALENDAR
VERSION:2.0
PRODID:-//ChamberMaster//Event Calendar 2.0//EN
METHOD:PUBLISH
X-PUBLISHED-TTL:P3D
REFRESH-INTERVAL:P3D
CALSCALE:GREGORIAN
BEGIN:VEVENT
DTSTART:20191207T150000Z
DTEND:20191207T210000Z
X-MICROSOFT-CDO-ALLDAYEVENT:FALSE
SUMMARY:Jingle Bell Marketplace Craft & Vendor Show
DESCRIPTION:Join Main Street Mount Vernon for their Holiday Craft Bazaar.  For information on renting booth space\, contact Dena Hess-Mckinstry at dena@steinbrewco.com.
X-ALT-DESC;FMTTYPE=text/html:Join Main Street Mount Vernon for their Holiday Craft Bazaar.&nbsp\; For information on renting booth space\, contact Dena Hess-Mckinstry at dena@steinbrewco.com.
LOCATION:The Knox County Memorial Building 112 East High Street
UID:e.2893.4637
SEQUENCE:3
DTSTAMP:20260421T023808Z
URL:http://knoxchamber.smartcms.site/events/details/jingle-bell-marketplace-craft-vendor-show-4637
END:VEVENT

END:VCALENDAR
