BEGIN:VCALENDAR
VERSION:2.0
PRODID:-//ChamberMaster//Event Calendar 2.0//EN
METHOD:PUBLISH
X-PUBLISHED-TTL:P3D
REFRESH-INTERVAL:P3D
CALSCALE:GREGORIAN
BEGIN:VEVENT
DTSTART:20211023T110000Z
DTEND:20211023T143000Z
X-MICROSOFT-CDO-ALLDAYEVENT:FALSE
SUMMARY:Imagine the Possibilities 5K & 1Mile Run/Walk
DESCRIPTION:We are excited to invite you to the 2021 Imagine the Possibilities 5K and 1Mile Run/Walk benefiting Habitat for Humanity of Knox County. The race will be held on Saturday\, October 23rd from 8:30am   10:30am. Please join us for this community-wide event. Habitat for Humanity of Knox County provides a hand up to families through partnership building to provide safe and decent homes with an affordable\, zero interest mortgage. This fundraising event provides additional resources to help Habitat increase their ability to build homes and expand their supports to include A Brush with Kindness and repair programs. The Imagine the Possibilities 5k and 1Mile Run/Walk is a family-friendly Run/Walk designed to be accessible to people of all abilities and promote healthy fun. Runners and walkers of all skill levels and ages are welcome to participate. All participants will receive a T-shirt\, timing bib\, finisher medal\, and a swag bag. Get Event Updates: https://fb.me/e/2Eed1tnt6
X-ALT-DESC;FMTTYPE=text/html:We are excited to invite you to the 2021 Imagine the Possibilities 5K and 1Mile Run/Walk benefiting Habitat for Humanity of Knox County. The race will be held on Saturday\, October 23rd from 8:30am &ndash\; 10:30am. Please join us for this community-wide event. Habitat for Humanity of Knox County provides a hand up to families through partnership building to provide safe and decent homes with an affordable\, zero interest mortgage. This fundraising event provides additional resources to help Habitat increase their ability to build homes and expand their supports to include A Brush with Kindness and repair programs. The Imagine the Possibilities 5k and 1Mile Run/Walk is a family-friendly Run/Walk designed to be accessible to people of all abilities and promote healthy fun. Runners and walkers of all skill levels and ages are welcome to participate. All participants will receive a T-shirt\, timing bib\, finisher medal\, and a swag bag. Get Event Updates: https://fb.me/e/2Eed1tnt6
LOCATION:Gambier\, Ohio
UID:e.2893.4985
SEQUENCE:3
DTSTAMP:20260421T103810Z
URL:http://knoxchamber.smartcms.site/events/details/imagine-the-possibilities-5k-1mile-run-walk-4985
END:VEVENT

END:VCALENDAR
