BEGIN:VCALENDAR
VERSION:2.0
PRODID:-//ChamberMaster//Event Calendar 2.0//EN
METHOD:PUBLISH
X-PUBLISHED-TTL:P3D
REFRESH-INTERVAL:P3D
CALSCALE:GREGORIAN
BEGIN:VEVENT
DTSTART:20231014T120000Z
DTEND:20231014T160000Z
X-MICROSOFT-CDO-ALLDAYEVENT:FALSE
SUMMARY:Imagine the Possibilities 5k & 1 Mile Run
DESCRIPTION:Imagine the Possibilities 5k & 1 mile fun run is an annual fundraiser for Habitat for Humanity of Knox County. The events start and finish at the Gambier Community Center and both the 5k & 1 mile runs are fully accessible routes for runners & walkers of all ability levels. The 1 mile starts at 9:00 with the 5k starting at 9:05. We are still working out details on the swag but all participants will get a shirt and swag bag from our sponsors. Post run refreshments will also be provided. The website to register is: https://racepenguin.com/events/imagine-the-possibilities-5k/
X-ALT-DESC;FMTTYPE=text/html:<span style="font-family:calibri\,sans-serif\;"><span style="font-size:11.0pt\;">Imagine the Possibilities 5k &amp\; 1 mile fun run is an annual fundraiser for Habitat for Humanity of Knox County. The events start and finish at the Gambier Community Center and both the 5k &amp\; 1 mile runs are fully accessible routes for runners &amp\; walkers of all ability levels. The 1 mile starts at 9:00 with the 5k starting at 9:05. We are still working out details on the swag but all participants will get a shirt and swag bag from our sponsors. Post run refreshments will also be provided. The website to register is: <a href="https://racepenguin.com/events/imagine-the-possibilities-5k/">https://racepenguin.com/events/imagine-the-possibilities-5k/</a></span></span>
LOCATION:Gambier Community Center
UID:e.2893.8155
SEQUENCE:3
DTSTAMP:20260421T085231Z
URL:http://knoxchamber.smartcms.site/events/details/imagine-the-possibilities-5k-1-mile-run-8155
END:VEVENT

END:VCALENDAR
