BEGIN:VCALENDAR
VERSION:2.0
PRODID:-//ChamberMaster//Event Calendar 2.0//EN
METHOD:PUBLISH
X-PUBLISHED-TTL:P3D
REFRESH-INTERVAL:P3D
CALSCALE:GREGORIAN
BEGIN:VEVENT
DTSTART:20191009T213000Z
DTEND:20191010T003000Z
X-MICROSOFT-CDO-ALLDAYEVENT:FALSE
SUMMARY:Hunter Education Course
DESCRIPTION:For children ages 16 and younger. Join us for the ODNR-approved hunter education course. The course will take the entire three days to complete. Study materials will be provided in the class\, but you will need to bring a pencil/pen and a highlighter. The instructors will cover conservation\, safety\, ethics\, proper handling of shotguns & handguns\, bow hunting gear and more. All necessary equipment will be provided. Please do not bring firearms or archery equipment to class. When the course is complete\, participants will be tested. A score of 75% or higher will pass and obtain ODNR hunting certification. To register\, go to ohiodnr.gov\, select "take a course/hunter education." Under "instructor-led course" select "find a course." Follow the prompts to select "hunter education" and "classroom activity type." Type "43022" for zip code and then select BFEC as the location.
X-ALT-DESC;FMTTYPE=text/html:For children ages 16 and younger. Join us for the ODNR-approved hunter education course. The course will take the entire three days to complete. Study materials will be provided in the class\, but you will need to bring a pencil/pen and a highlighter. The instructors will cover conservation\, safety\, ethics\, proper handling of shotguns &amp\; handguns\, bow hunting gear and more. All necessary equipment will be provided. Please do not bring firearms or archery equipment to class. When the course is complete\, participants will be tested. A score of 75% or higher will pass and obtain ODNR hunting certification. To register\, go to ohiodnr.gov\, select &ldquo\;take a course/hunter education.&rdquo\; Under &ldquo\;instructor-led course&rdquo\; select &ldquo\;find a course.&rdquo\; Follow the prompts to select &ldquo\;hunter education&rdquo\; and &ldquo\;classroom activity type.&rdquo\; Type &ldquo\;43022&rdquo\; for zip code and then select BFEC as the location.
LOCATION:Brown Family Environmental Center
UID:e.2893.4474
SEQUENCE:3
DTSTAMP:20260421T034957Z
URL:http://knoxchamber.smartcms.site/events/details/hunter-education-course-4474
END:VEVENT

END:VCALENDAR
