BEGIN:VCALENDAR
VERSION:2.0
PRODID:-//ChamberMaster//Event Calendar 2.0//EN
METHOD:PUBLISH
X-PUBLISHED-TTL:P3D
REFRESH-INTERVAL:P3D
CALSCALE:GREGORIAN
BEGIN:VEVENT
DTSTART:20190816T130000Z
DTEND:20190816T200000Z
X-MICROSOFT-CDO-ALLDAYEVENT:FALSE
SUMMARY:Humane Society Garage Sale
DESCRIPTION:Check out this Garage Sale to help benefit the Knox County Humane Society!
X-ALT-DESC;FMTTYPE=text/html:Check out this Garage Sale to help benefit the Knox County Humane Society!
LOCATION:Knox County Humane Society 400 Columbus Road\, Mount Vernon
UID:e.2893.4435
SEQUENCE:3
DTSTAMP:20260421T070650Z
URL:http://knoxchamber.smartcms.site/events/details/humane-society-garage-sale-4435
END:VEVENT

END:VCALENDAR
