BEGIN:VCALENDAR
VERSION:2.0
PRODID:-//ChamberMaster//Event Calendar 2.0//EN
METHOD:PUBLISH
X-PUBLISHED-TTL:P3D
REFRESH-INTERVAL:P3D
CALSCALE:GREGORIAN
BEGIN:VEVENT
DTSTART:20170504T193000Z
DTEND:20170504T203000Z
X-MICROSOFT-CDO-ALLDAYEVENT:FALSE
SUMMARY:How to Write Your Email Content in 15 Minutes or Less
DESCRIPTION:How to Write Your Email Content in 15 Minutes or Less\n\nPresented by Constant Contact\n\nMay 4\, 2017 | 3:30-4:30 pm ET\n\nRegister here
X-ALT-DESC;FMTTYPE=text/html:<p class="gdp" style="line-height:12.75pt"><b><span style="font-size:10.5pt\;\nfont-family:&quot\;Helvetica&quot\;\,sans-serif\;color:#4E4D4E">How to Write Your Email Content in 15 Minutes or Less</span></b><br />\n<span style="font-size:10.5pt\;font-family:&quot\;Helvetica&quot\;\,sans-serif\;\ncolor:#4E4D4E">Presented by Constant Contact<br />\nMay 4\, 2017 | 3:30-4:30 pm ET<br />\nRegister<a href="http://links.govdelivery.com:80/track?type=click&amp\;enid=ZWFzPTEmbWFpbGluZ2lkPTIwMTcwNDE2LjcyMzYzMTQxJm1lc3NhZ2VpZD1NREItUFJELUJVTC0yMDE3MDQxNi43MjM2MzE0MSZkYXRhYmFzZWlkPTEwMDEmc2VyaWFsPTE3MTMzMjQ0JmVtYWlsaWQ9cHJvZ3JhbXNAa25veGNoYW1iZXIuY29tJnVzZXJpZD1wcm9ncmFtc0Brbm94Y2hhbWJlci5jb20mZmw9JmV4dHJhPU11bHRpdmFyaWF0ZUlkPSYmJg==&amp\;&amp\;&amp\;102&amp\;&amp\;&amp\;https://cc.readytalk.com/registration/?utm_medium=email&amp\;utm_source=govdelivery#/?meeting=w7h2t3nfs4p3&amp\;campaign=4u348rhqap5d"><span style="color:#1D5782"> here</span></a><o:p></o:p></span></p>\n
LOCATION:
UID:e.2893.1374
SEQUENCE:3
DTSTAMP:20260423T093802Z
URL:http://knoxchamber.smartcms.site/events/details/how-to-write-your-email-content-in-15-minutes-or-less-1374
END:VEVENT

END:VCALENDAR
