BEGIN:VCALENDAR
VERSION:2.0
PRODID:-//ChamberMaster//Event Calendar 2.0//EN
METHOD:PUBLISH
X-PUBLISHED-TTL:P3D
REFRESH-INTERVAL:P3D
CALSCALE:GREGORIAN
BEGIN:VEVENT
DTSTART:20180515T220000Z
DTEND:20180516T000000Z
X-MICROSOFT-CDO-ALLDAYEVENT:FALSE
SUMMARY:How to Recycle Properly in Knox County
DESCRIPTION:Meet in the BFEC Resource Center. Randy Canterbury from Knox County Recycling & Litter Prevention will clear up any and all questions we might have about recycling. Know what items are acceptable at drop off centers\, where these drop off centers are located\, and why we can't recycle everything. He will also review how we can reduce our trash bills.
X-ALT-DESC;FMTTYPE=text/html:Meet in the BFEC Resource Center. Randy Canterbury from Knox County Recycling &amp\; Litter Prevention will clear up any and all questions we might have about recycling. Know what items are acceptable at drop off centers\, where these drop off centers are located\, and why we can&rsquo\;t recycle everything. He will also review how we can reduce our trash bills.
LOCATION:Brown Family Environmental Center
UID:e.2893.2624
SEQUENCE:3
DTSTAMP:20260422T105812Z
URL:http://knoxchamber.smartcms.site/events/details/how-to-recycle-properly-in-knox-county-2624
END:VEVENT

END:VCALENDAR
