BEGIN:VCALENDAR
VERSION:2.0
PRODID:-//ChamberMaster//Event Calendar 2.0//EN
METHOD:PUBLISH
X-PUBLISHED-TTL:P3D
REFRESH-INTERVAL:P3D
CALSCALE:GREGORIAN
BEGIN:VEVENT
DTSTART:20171116T223000Z
DTEND:20171117T003000Z
X-MICROSOFT-CDO-ALLDAYEVENT:FALSE
SUMMARY:Hope for the Holidays
DESCRIPTION:The holidays can be a difficult time for many. You are not alone! Join in conversation with other adults who understand the challenges of coping with the holidays and create something special to take home with you. Hope to see you there!
X-ALT-DESC;FMTTYPE=text/html:The holidays can be a difficult time for many. You are not alone! Join in conversation with other adults who understand the challenges of coping with the holidays and create something special to take home with you. Hope to see you there!
LOCATION:Hospice of Knox County 17700 Coschocton Rd. Mount Vernon\, OH 43050
UID:e.2893.2514
SEQUENCE:3
DTSTAMP:20260422T193338Z
URL:http://knoxchamber.smartcms.site/events/details/hope-for-the-holidays-2514
END:VEVENT

END:VCALENDAR
