BEGIN:VCALENDAR
VERSION:2.0
PRODID:-//ChamberMaster//Event Calendar 2.0//EN
METHOD:PUBLISH
X-PUBLISHED-TTL:P3D
REFRESH-INTERVAL:P3D
CALSCALE:GREGORIAN
BEGIN:VEVENT
DTSTART:20181115T223000Z
DTEND:20181116T000000Z
X-MICROSOFT-CDO-ALLDAYEVENT:FALSE
SUMMARY:Hope for the Holidays
DESCRIPTION:Join Hospice of Knox County for the opportunity to talk and learn techniques to cope during the holiday season.  Light refreshments\, support and encouragement will be provided!
X-ALT-DESC;FMTTYPE=text/html:<span style="font-family:calibri"><span style="font-size:11.0pt">Join <span style="color:#B22222\;"><strong><em>Hospice of Knox County</em></strong></span> for the opportunity to talk and learn techniques to cope during the holiday season.&nbsp\; Light refreshments\, support and encouragement will be provided!</span></span><br />\n&nbsp\;
LOCATION:Hospice of Knox County 17700 Coshocton Ave. Mt. Vernon\, OH 43050
UID:e.2893.3829
SEQUENCE:3
DTSTAMP:20260421T232150Z
URL:http://knoxchamber.smartcms.site/events/details/hope-for-the-holidays-11-15-2018-3829
END:VEVENT

END:VCALENDAR
