BEGIN:VCALENDAR
VERSION:2.0
PRODID:-//ChamberMaster//Event Calendar 2.0//EN
METHOD:PUBLISH
X-PUBLISHED-TTL:P3D
REFRESH-INTERVAL:P3D
CALSCALE:GREGORIAN
BEGIN:VEVENT
DTSTART:20210706T150000Z
DTEND:20210706T170000Z
X-MICROSOFT-CDO-ALLDAYEVENT:FALSE
SUMMARY:Hometown American Picnic To-Go
DESCRIPTION:Join Whispering Hills and Hospice of Knox County for a FREE Picnic Lunch.\n\nLimited to adults 55 and over. Door prizes to be handed out!\n\n\n\nRSVP by June 28th by calling 614-905-5945
X-ALT-DESC;FMTTYPE=text/html:Join Whispering Hills and Hospice of Knox County for a FREE Picnic Lunch.<br />\nLimited to adults 55 and over. Door prizes to be handed out!<br />\n<br />\n<strong>RSVP by June 28th by calling 614-905-5945</strong>
LOCATION:Whispering Hills 416 Wooster Road
UID:e.2893.4931
SEQUENCE:3
DTSTAMP:20260419T175121Z
URL:http://knoxchamber.smartcms.site/events/details/hometown-american-picnic-to-go-4931
END:VEVENT

END:VCALENDAR
