BEGIN:VCALENDAR
VERSION:2.0
PRODID:-//ChamberMaster//Event Calendar 2.0//EN
METHOD:PUBLISH
X-PUBLISHED-TTL:P3D
REFRESH-INTERVAL:P3D
CALSCALE:GREGORIAN
BEGIN:VEVENT
DTSTART:20171216T180000Z
DTEND:20171216T210000Z
X-MICROSOFT-CDO-ALLDAYEVENT:FALSE
SUMMARY:Holiday Wreath Workshop
DESCRIPTION:Relax and celebrate the season while you create your very own Holiday wreath. All materials will be provided. Space is limited - call now to save your seat. Call 740-427-5052 or email jordan2@kenyon.edu to register. Materials fee for Members $20\, Non-members $25.
X-ALT-DESC;FMTTYPE=text/html:Relax and celebrate the season while you create your very own Holiday wreath. All materials will be provided. Space is limited - call now to save your seat. Call 740-427-5052 or email jordan2@kenyon.edu to register. Materials fee for Members $20\, Non-members $25.
LOCATION:Brown Family Environmental Center
UID:e.2893.1485
SEQUENCE:3
DTSTAMP:20260422T193226Z
URL:http://knoxchamber.smartcms.site/events/details/holiday-wreath-workshop-1485
END:VEVENT

END:VCALENDAR
