BEGIN:VCALENDAR
VERSION:2.0
PRODID:-//ChamberMaster//Event Calendar 2.0//EN
METHOD:PUBLISH
X-PUBLISHED-TTL:P3D
REFRESH-INTERVAL:P3D
CALSCALE:GREGORIAN
BEGIN:VEVENT
DTSTART:20181208T180000Z
DTEND:20181208T210000Z
X-MICROSOFT-CDO-ALLDAYEVENT:FALSE
SUMMARY:Holiday wreath Workshop
DESCRIPTION:Meet at the BFEC Resource Center. Relax and celebrate the season while you create your very own holiday wreath. All materials will be provided. Space is limited - call now to save your seat. Call 740-427-5052 or email jordan2@kenyon.edu to register. Materials fee for Members $20\, Non-members $25.
X-ALT-DESC;FMTTYPE=text/html:Meet at the <span style="color: rgb(128\, 0\, 0)\;"><em>BFEC Resource Center</em></span>. Relax and celebrate the season while you create your very own holiday wreath. All materials will be provided. Space is limited - call now to save your seat. Call 740-427-5052 or email jordan2@kenyon.edu to register. Materials fee for Members $20\, Non-members $25.
LOCATION:Brown Family Environmental Center 9781 Laymon Road\, Gambier
UID:e.2893.3808
SEQUENCE:3
DTSTAMP:20260421T213543Z
URL:http://knoxchamber.smartcms.site/events/details/holiday-wreath-workshop-12-08-2018-3808
END:VEVENT

END:VCALENDAR
