BEGIN:VCALENDAR
VERSION:2.0
PRODID:-//ChamberMaster//Event Calendar 2.0//EN
METHOD:PUBLISH
X-PUBLISHED-TTL:P3D
REFRESH-INTERVAL:P3D
CALSCALE:GREGORIAN
BEGIN:VEVENT
DTSTART:20191207T180000Z
DTEND:20191207T210000Z
X-MICROSOFT-CDO-ALLDAYEVENT:FALSE
SUMMARY:Holiday Wreath Workshop
DESCRIPTION:Meet at the BFEC Resource Center. Relax and celebrate the season while you create your very own holiday wreath. All materials will be provided. Space is limited - call now to save your seat. Call 740-427-5052 or email jordan2@kenyon.edu to register. Materials fee for Members $20\, Non-members $25.
X-ALT-DESC;FMTTYPE=text/html:Meet at the BFEC Resource Center. Relax and celebrate the season while you create your very own holiday wreath. All materials will be provided. Space is limited - call now to save your seat. Call 740-427-5052 or email jordan2@kenyon.edu to register. Materials fee for Members $20\, Non-members $25.
LOCATION:
UID:e.2893.4482
SEQUENCE:3
DTSTAMP:20260421T005953Z
URL:http://knoxchamber.smartcms.site/events/details/holiday-wreath-workshop-12-07-2019-4482
END:VEVENT

END:VCALENDAR
