BEGIN:VCALENDAR
VERSION:2.0
PRODID:-//ChamberMaster//Event Calendar 2.0//EN
METHOD:PUBLISH
X-PUBLISHED-TTL:P3D
REFRESH-INTERVAL:P3D
CALSCALE:GREGORIAN
BEGIN:VEVENT
DTSTART:20201219T160000Z
DTEND:20201219T190000Z
X-MICROSOFT-CDO-ALLDAYEVENT:FALSE
SUMMARY:Holiday Remembrance Service
DESCRIPTION:Join Roberts Funeral Home virtually for a holiday service to honor your loved ones.
X-ALT-DESC;FMTTYPE=text/html:<p>Join Roberts Funeral Home virtually for a holiday service to honor your loved ones.&nbsp\;</p>\n\n<p>&nbsp\;</p>\n
LOCATION:Virtual
UID:e.2893.4817
SEQUENCE:3
DTSTAMP:20260420T075902Z
URL:http://knoxchamber.smartcms.site/events/details/holiday-remembrance-service-4817
END:VEVENT

END:VCALENDAR
