BEGIN:VCALENDAR
VERSION:2.0
PRODID:-//ChamberMaster//Event Calendar 2.0//EN
METHOD:PUBLISH
X-PUBLISHED-TTL:P3D
REFRESH-INTERVAL:P3D
CALSCALE:GREGORIAN
BEGIN:VEVENT
DTSTART:20181214T170000Z
DTEND:20181230T170000Z
X-MICROSOFT-CDO-ALLDAYEVENT:FALSE
SUMMARY:Holiday Gift Card Bonus Extended
DESCRIPTION:Mazza's is offering bonus gift cards from now through December 30! Receive a bonus $10 or $20 card for every $50 or $100 gift card you buy respectively. Check out the link below to buy your gift card!\n\nhttp://www.mazzas.com/gift-cards/
X-ALT-DESC;FMTTYPE=text/html:Mazza&#39\;s is offering bonus gift cards from now through December 30! Receive a bonus $10 or $20 card for every $50 or $100 gift card you buy respectively. Check out the link below to buy your gift card!<br />\n<a href="http://www.mazzas.com/gift-cards/">http://www.mazzas.com/gift-cards/</a>
LOCATION:
UID:e.2893.3869
SEQUENCE:3
DTSTAMP:20260421T231422Z
URL:http://knoxchamber.smartcms.site/events/details/holiday-gift-card-bonus-extended-3869
END:VEVENT

END:VCALENDAR
