BEGIN:VCALENDAR
VERSION:2.0
PRODID:-//ChamberMaster//Event Calendar 2.0//EN
METHOD:PUBLISH
X-PUBLISHED-TTL:P3D
REFRESH-INTERVAL:P3D
CALSCALE:GREGORIAN
BEGIN:VEVENT
DTSTART:20170920T120000Z
DTEND:20170920T190000Z
X-MICROSOFT-CDO-ALLDAYEVENT:FALSE
SUMMARY:HNCO's Hospice of Knox County Golf Benefit
DESCRIPTION:Gather your team and join us or promote your company as a sponsor in the upcoming golf outing at Chapel Hill Golf Course in Mount Vernon. This outing will include box lunches\, awards banquet with brats and burgers\, prizes for top teams\, proximity prizes\, putting contest\, 50/50 raffle\, and more! Proceeds to benefit Hospice of Knox County. Call 800-952-2207 for more information.
X-ALT-DESC;FMTTYPE=text/html:Gather your team and join us or promote your company as a sponsor in the upcoming golf outing at Chapel Hill Golf Course in Mount Vernon. This outing will include box lunches\, awards banquet with brats and burgers\, prizes for top teams\, proximity prizes\, putting contest\, 50/50 raffle\, and more! Proceeds to benefit Hospice of Knox County. Call 800-952-2207 for more information.
LOCATION:Chapel Hill Golf Club 7516 Johnstown Road Mount Vernon OH 43050
UID:e.2893.1492
SEQUENCE:3
DTSTAMP:20260422T230657Z
URL:http://knoxchamber.smartcms.site/events/details/hnco-s-hospice-of-knox-county-golf-benefit-1492
END:VEVENT

END:VCALENDAR
