BEGIN:VCALENDAR
VERSION:2.0
PRODID:-//ChamberMaster//Event Calendar 2.0//EN
METHOD:PUBLISH
X-PUBLISHED-TTL:P3D
REFRESH-INTERVAL:P3D
CALSCALE:GREGORIAN
BEGIN:VEVENT
DTSTART:20170819T200000Z
DTEND:20170819T230000Z
X-MICROSOFT-CDO-ALLDAYEVENT:FALSE
SUMMARY:HNCO's 8th Annual Community Corn Roast
DESCRIPTION:Mark your calendar! HNCO's 8th Annual Community Corn Roast is sure to be a great time for the whole family! Enjoy delicious food\, great live music\, old-fashioned children's games\, a pie auction\, and chances to win fun prizes! Minimum donation of only $5 per person. Other donations and sponsorships are welcome.
X-ALT-DESC;FMTTYPE=text/html:Mark your calendar! HNCO&#39\;s 8th Annual Community Corn Roast is sure to be a great time for the whole family! Enjoy delicious food\, great live music\, old-fashioned children&#39\;s games\, a pie auction\, and chances to win fun prizes! Minimum donation of only $5 per person. Other donations and sponsorships are welcome.
LOCATION:Ashland County Fairgrounds @ Mozelle Hall 2042 Claremont Avenue\, Ashland\, OH 44805
UID:e.2893.1401
SEQUENCE:3
DTSTAMP:20260423T010018Z
URL:http://knoxchamber.smartcms.site/events/details/hnco-s-8th-annual-community-corn-roast-1401
END:VEVENT

END:VCALENDAR
