BEGIN:VCALENDAR
VERSION:2.0
PRODID:-//ChamberMaster//Event Calendar 2.0//EN
METHOD:PUBLISH
X-PUBLISHED-TTL:P3D
REFRESH-INTERVAL:P3D
CALSCALE:GREGORIAN
BEGIN:VEVENT
DTSTART:20180219T210000Z
DTEND:20180220T010000Z
X-MICROSOFT-CDO-ALLDAYEVENT:FALSE
SUMMARY:HNCO/Hospice of Knox County Chipotle Fundraiser
DESCRIPTION:Make dinner a selfless act by joining us for a fundraiser to support HNCO/Hospice of Knox County. Come into Chipotle at 857 Coshocton Ave in Mount Vernon on Monday\, March 19th between 4:00pm to 8:00pm.\n\n\n\nTell the cashier that your supporting the cause to make sure that 50% of the proceeds will be dontated to HNCO/Hospice of Knox County.
X-ALT-DESC;FMTTYPE=text/html:Make dinner a selfless act by joining us for a fundraiser to support HNCO/Hospice of Knox County. Come into Chipotle at 857 Coshocton Ave in Mount Vernon on Monday\, March 19th between 4:00pm to 8:00pm.<br />\n<br />\nTell the cashier that your supporting the cause to make sure that 50% of the proceeds will be dontated to HNCO/Hospice of Knox County.&nbsp\;
LOCATION:
UID:e.2893.2606
SEQUENCE:3
DTSTAMP:20260422T142214Z
URL:http://knoxchamber.smartcms.site/events/details/hnco-hospice-of-knox-county-chipotle-fundraiser-2606
END:VEVENT

END:VCALENDAR
