BEGIN:VCALENDAR
VERSION:2.0
PRODID:-//ChamberMaster//Event Calendar 2.0//EN
METHOD:PUBLISH
X-PUBLISHED-TTL:P3D
REFRESH-INTERVAL:P3D
CALSCALE:GREGORIAN
BEGIN:VEVENT
DTSTART:20190731T130000Z
DTEND:20190731T143000Z
X-MICROSOFT-CDO-ALLDAYEVENT:FALSE
SUMMARY:Hidden In Plain Sight
DESCRIPTION:Explore an interactive exhibit\, resembling a teen's bedroom with more than 100 items that could indicate dangerous or risky behaviors.  Presentation will cover substance abuse\, suicide\, internet/technology\, risky games/challenges and much more. Sponsored by\, Knox Substance Abuse Action Team.
X-ALT-DESC;FMTTYPE=text/html:Explore an interactive exhibit\, resembling a teen&#39\;s bedroom with more than 100 items that could indicate dangerous or risky behaviors.&nbsp\; Presentation will cover substance abuse\, suicide\, internet/technology\, risky games/challenges and much more. Sponsored by\, Knox Substance Abuse Action Team.
LOCATION:Knox Community Hospital Urgent Care Education Room 1490 Coshocton Avenue\, Mount Vernon
UID:e.2893.4364
SEQUENCE:3
DTSTAMP:20260421T084755Z
URL:http://knoxchamber.smartcms.site/events/details/hidden-in-plain-sight-4364
END:VEVENT

END:VCALENDAR
