BEGIN:VCALENDAR
VERSION:2.0
PRODID:-//ChamberMaster//Event Calendar 2.0//EN
METHOD:PUBLISH
X-PUBLISHED-TTL:P3D
REFRESH-INTERVAL:P3D
CALSCALE:GREGORIAN
BEGIN:VEVENT
DTSTART:20180413T150000Z
DTEND:20180413T170000Z
X-MICROSOFT-CDO-ALLDAYEVENT:FALSE
SUMMARY:HER Realtors PIZZA PARTY
DESCRIPTION:HER Realtors Jenna Guthrie invites you to a free pizza party\n\n to check out her new digs
X-ALT-DESC;FMTTYPE=text/html:HER Realtors Jenna Guthrie invites you to a free pizza party<br />\n&#8203\;to check out her new digs
LOCATION:225 South Main Street Mount Vernon Ohio
UID:e.2893.3626
SEQUENCE:3
DTSTAMP:20260422T105727Z
URL:http://knoxchamber.smartcms.site/events/details/her-realtors-pizza-party-3626
END:VEVENT

END:VCALENDAR
