BEGIN:VCALENDAR
VERSION:2.0
PRODID:-//ChamberMaster//Event Calendar 2.0//EN
METHOD:PUBLISH
X-PUBLISHED-TTL:P3D
REFRESH-INTERVAL:P3D
CALSCALE:GREGORIAN
BEGIN:VEVENT
DTSTART:20190321T180000Z
DTEND:20190321T200000Z
X-MICROSOFT-CDO-ALLDAYEVENT:FALSE
SUMMARY:Helga Long Presentation and Book Signing
DESCRIPTION:Join Levering Management at The Living Center\, located at 201 North Main Street in Mount Vernon\, for a presentation by local author and speaker\, Helga Long. The daughter of a German woman who lived through the mid-1900's\, Helga provides a unique perspective in to what life was like for the average German during this time period!
X-ALT-DESC;FMTTYPE=text/html:Join Levering Management at The Living Center\, located at 201 North Main Street in Mount Vernon\, for a presentation by local author and speaker\, Helga Long. The daughter of a German woman who lived through the mid-1900&#39\;s\, Helga provides a unique perspective in to what life was like for the average German during this time period!
LOCATION:The Living Center\, 201 North Main Street\, Mount Vernon
UID:e.2893.4256
SEQUENCE:3
DTSTAMP:20260421T170147Z
URL:http://knoxchamber.smartcms.site/events/details/helga-long-presentation-and-book-signing-4256
END:VEVENT

END:VCALENDAR
