BEGIN:VCALENDAR
VERSION:2.0
PRODID:-//ChamberMaster//Event Calendar 2.0//EN
METHOD:PUBLISH
X-PUBLISHED-TTL:P3D
REFRESH-INTERVAL:P3D
CALSCALE:GREGORIAN
BEGIN:VEVENT
DTSTART;VALUE=DATE:20170502
DTEND;VALUE=DATE:20170503
TRANSP:TRANSPARENT
X-MICROSOFT-CDO-ALLDAYEVENT:TRUE
SUMMARY:Hazard Communication Half-day Workshop
DESCRIPTION:BWC Class Offering in Mansfield
X-ALT-DESC;FMTTYPE=text/html:BWC Class Offering in Mansfield
LOCATION:
UID:e.2893.1319
SEQUENCE:3
DTSTAMP:20260423T075149Z
URL:http://knoxchamber.smartcms.site/events/details/hazard-communication-half-day-workshop-1319
END:VEVENT

END:VCALENDAR
