BEGIN:VCALENDAR
VERSION:2.0
PRODID:-//ChamberMaster//Event Calendar 2.0//EN
METHOD:PUBLISH
X-PUBLISHED-TTL:P3D
REFRESH-INTERVAL:P3D
CALSCALE:GREGORIAN
BEGIN:VEVENT
DTSTART:20171012T160000Z
DTEND:20171012T210000Z
X-MICROSOFT-CDO-ALLDAYEVENT:FALSE
SUMMARY:Hasseman Marketing Trade Show
DESCRIPTION:Hasseman Marketing Trade Show\n\nA large variety of suppliers & booths full of great ideas for marketing\, safety and events.\n\nLots of door prizes and giveaways.\n\nGreat food & drinks!
X-ALT-DESC;FMTTYPE=text/html:Hasseman Marketing Trade Show<br />\nA large variety of suppliers &amp\; booths full of great ideas for marketing\, safety and events.<br />\nLots of door prizes and giveaways.<br />\nGreat food &amp\; drinks!&nbsp\;
LOCATION:Lake Park Pavilion 23253 SR 83N Coshocton\, Ohio
UID:e.2893.2507
SEQUENCE:3
DTSTAMP:20260422T212318Z
URL:http://knoxchamber.smartcms.site/events/details/hasseman-marketing-trade-show-2507
END:VEVENT

END:VCALENDAR
