BEGIN:VCALENDAR
VERSION:2.0
PRODID:-//ChamberMaster//Event Calendar 2.0//EN
METHOD:PUBLISH
X-PUBLISHED-TTL:P3D
REFRESH-INTERVAL:P3D
CALSCALE:GREGORIAN
BEGIN:VEVENT
DTSTART:20180717T210000Z
DTEND:20180717T230000Z
X-MICROSOFT-CDO-ALLDAYEVENT:FALSE
SUMMARY:Habitat for Humanity ReStore Open House
DESCRIPTION:Open to the Public to tour\, drop off donations and purchase merchandise. Meet and Greet with Director and Board Members.
X-ALT-DESC;FMTTYPE=text/html:Open to the Public to tour\, drop off donations and purchase merchandise. Meet and Greet with Director and Board Members.
LOCATION:13246 Wooster Rd. Mount Vernon\, Oh 43050
UID:e.2893.3755
SEQUENCE:3
DTSTAMP:20260422T061232Z
URL:http://knoxchamber.smartcms.site/events/details/habitat-for-humanity-restore-open-house-3755
END:VEVENT

END:VCALENDAR
