BEGIN:VCALENDAR
VERSION:2.0
PRODID:-//ChamberMaster//Event Calendar 2.0//EN
METHOD:PUBLISH
X-PUBLISHED-TTL:P3D
REFRESH-INTERVAL:P3D
CALSCALE:GREGORIAN
BEGIN:VEVENT
DTSTART:20170922T213000Z
DTEND:20170922T233000Z
X-MICROSOFT-CDO-ALLDAYEVENT:FALSE
SUMMARY:Habitat for Humanity Open House & Meet and Greet
DESCRIPTION:Stop by Habitat for Humanity Restore located at 13245 Wooster Road\, Mount Vernon for an Open House and to meet the New Managing Director of Habitat\, Tammy Lemley.
X-ALT-DESC;FMTTYPE=text/html:Stop by Habitat for Humanity Restore located at 13245 Wooster Road\, Mount Vernon for an Open House and to meet the New Managing Director of Habitat\, Tammy Lemley.&nbsp\;
LOCATION:Habitat Restore 13245 Wooster Road\, Mount Vernon
UID:e.2893.1496
SEQUENCE:3
DTSTAMP:20260422T230429Z
URL:http://knoxchamber.smartcms.site/events/details/habitat-for-humanity-open-house-meet-and-greet-1496
END:VEVENT

END:VCALENDAR
