BEGIN:VCALENDAR
VERSION:2.0
PRODID:-//ChamberMaster//Event Calendar 2.0//EN
METHOD:PUBLISH
X-PUBLISHED-TTL:P3D
REFRESH-INTERVAL:P3D
CALSCALE:GREGORIAN
BEGIN:VEVENT
DTSTART:20180717T210000Z
DTEND:20180717T230000Z
X-MICROSOFT-CDO-ALLDAYEVENT:FALSE
SUMMARY:Habitat for Humanity Open House
DESCRIPTION:Meet new executive director Anita Clark and associates at the Restore.  The store will be open for deliveries and purchases.
X-ALT-DESC;FMTTYPE=text/html:Meet new executive director <strong>Anita Clark</strong> and associates at the Restore.&nbsp\; The store will be open for deliveries and purchases.
LOCATION:13246 Wooster Road\, Mount Vernon.
UID:e.2893.3754
SEQUENCE:3
DTSTAMP:20260422T061109Z
URL:http://knoxchamber.smartcms.site/events/details/habitat-for-humanity-open-house-3754
END:VEVENT

END:VCALENDAR
