BEGIN:VCALENDAR
VERSION:2.0
PRODID:-//ChamberMaster//Event Calendar 2.0//EN
METHOD:PUBLISH
X-PUBLISHED-TTL:P3D
REFRESH-INTERVAL:P3D
CALSCALE:GREGORIAN
BEGIN:VEVENT
DTSTART:20171026T220000Z
DTEND:20171026T233000Z
X-MICROSOFT-CDO-ALLDAYEVENT:FALSE
SUMMARY:Habitat at Home: Build a Bat House
DESCRIPTION:Meet at the BFEC Resource Center. Learn about the importance of bats in our environment\, and then build your very own bat house! To play your part in protecting Ohio's bat community\, you'll be able to take your box home and set it up. FREE. Space is limited! Call now to register 740-427-5052 or email jordan2@kenyon.edu.
X-ALT-DESC;FMTTYPE=text/html:Meet at the BFEC Resource Center. Learn about the importance of bats in our environment\, and then build your very own bat house! To play your part in protecting Ohio&#39\;s bat community\, you&rsquo\;ll be able to take your box home and set it up. FREE. Space is limited! Call now to register 740-427-5052 or email jordan2@kenyon.edu.
LOCATION:Brown Family Environmental Center
UID:e.2893.2503
SEQUENCE:3
DTSTAMP:20260422T212306Z
URL:http://knoxchamber.smartcms.site/events/details/habitat-at-home-build-a-bat-house-2503
END:VEVENT

END:VCALENDAR
