BEGIN:VCALENDAR
VERSION:2.0
PRODID:-//ChamberMaster//Event Calendar 2.0//EN
METHOD:PUBLISH
X-PUBLISHED-TTL:P3D
REFRESH-INTERVAL:P3D
CALSCALE:GREGORIAN
BEGIN:VEVENT
DTSTART:20180402T220000Z
DTEND:20180402T233000Z
X-MICROSOFT-CDO-ALLDAYEVENT:FALSE
SUMMARY:Habitat at Home
DESCRIPTION:Meet in the Resource Center. During this presentation and garden stroll\, we will explore what it means to create a humane backyard oasis for birds\, insects\, and other wildlife using native plants\, careful soil treatments\, natural fertilizers\, and creative use of space. As mindful gardeners\, you can create a vibrant\, eco-friendly backyard that will keep you and our native species happy.
X-ALT-DESC;FMTTYPE=text/html:Meet in the Resource Center. During this presentation and garden stroll\, we will explore what it means to create a humane backyard oasis for birds\, insects\, and other wildlife using native plants\, careful soil treatments\, natural fertilizers\, and creative use of space. As mindful gardeners\, you can create a vibrant\, eco-friendly backyard that will keep you and our native species happy.
LOCATION:Brown Family Environmental Center
UID:e.2893.2621
SEQUENCE:3
DTSTAMP:20260422T105614Z
URL:http://knoxchamber.smartcms.site/events/details/habitat-at-home-2621
END:VEVENT

END:VCALENDAR
