BEGIN:VCALENDAR
VERSION:2.0
PRODID:-//ChamberMaster//Event Calendar 2.0//EN
METHOD:PUBLISH
X-PUBLISHED-TTL:P3D
REFRESH-INTERVAL:P3D
CALSCALE:GREGORIAN
BEGIN:VEVENT
DTSTART:20210715T200000Z
DTEND:20210715T213000Z
X-MICROSOFT-CDO-ALLDAYEVENT:FALSE
SUMMARY:Groundbreaking\, Ribbon Cutting and Grand Opening for the City of Mount Vernon
DESCRIPTION:Join the City of Mount Vernon on July 15th for a 3 in 1 event\; the groundbreaking for the Columbus Road and South Main Street intersection improvements\, a ribbon cutting ceremony for the new bike trail underpass\, and a grand opening tour and discussion of the Kokosing River Restoration Projects. Come get some Mount Vernon swag and learn more about the work that has been done throughout this year and what will be done in the future to help improve our City!
X-ALT-DESC;FMTTYPE=text/html:<span style="font-family:calibri\,sans-serif\;"><span style="font-size:11.0pt\;">Join the City of Mount Vernon on July 15th for a 3 in 1 event\; the groundbreaking for the Columbus Road and South Main Street intersection improvements\, a ribbon cutting ceremony for the new bike trail underpass\, and a grand opening tour and discussion of the Kokosing River Restoration Projects. Come get some Mount Vernon swag and learn more about the work that has been done throughout this year and what will be done in the future to help improve our City!</span></span>
LOCATION:CA&C Depot 501 South Main Street\, Mount Vernon
UID:e.2893.4930
SEQUENCE:3
DTSTAMP:20260419T175337Z
URL:http://knoxchamber.smartcms.site/events/details/groundbreaking-ribbon-cutting-and-grand-opening-for-the-city-of-mount-vernon-4930
END:VEVENT

END:VCALENDAR
